BEGIN:VCALENDAR
VERSION:2.0
PRODID:-//NCAMIC - ECPv5.16.4//NONSGML v1.0//EN
CALSCALE:GREGORIAN
METHOD:PUBLISH
X-WR-CALNAME:NCAMIC
X-ORIGINAL-URL:https://ncamic.org
X-WR-CALDESC:Events for NCAMIC
REFRESH-INTERVAL;VALUE=DURATION:PT1H
X-Robots-Tag:noindex
X-PUBLISHED-TTL:PT1H
BEGIN:VTIMEZONE
TZID:UTC
BEGIN:STANDARD
TZOFFSETFROM:+0000
TZOFFSETTO:+0000
TZNAME:UTC
DTSTART:20220101T000000
END:STANDARD
END:VTIMEZONE
BEGIN:VEVENT
DTSTART;TZID=UTC:20221102T100000
DTEND;TZID=UTC:20221102T170000
DTSTAMP:20260422T121524
CREATED:20220810T213748Z
LAST-MODIFIED:20220817T220251Z
UID:553-1667383200-1667408400@ncamic.org
SUMMARY:Golf Event
DESCRIPTION:
URL:https://ncamic.org/event/golf-event/
LOCATION:Grandover Resort & Spa\, 1000 Club Road\, Greensboro\, NC\, 27407\, United States
ATTACH;FMTTYPE=image/jpeg:https://ncamic.org/wp-content/uploads/2022/08/Golf-Photo-Grandover-East.jpg
END:VEVENT
BEGIN:VEVENT
DTSTART;VALUE=DATE:20221102
DTEND;VALUE=DATE:20221105
DTSTAMP:20260422T121524
CREATED:20220811T214829Z
LAST-MODIFIED:20220817T220347Z
UID:557-1667347200-1667606399@ncamic.org
SUMMARY:The NCAMIC Annual Conference
DESCRIPTION:Don’t forget to book your hotel room for two nights at the Grandover…Click Here
URL:https://ncamic.org/event/the-ncamic-annual-conference/
LOCATION:Grandover Resort & Spa\, 1000 Club Road\, Greensboro\, NC\, 27407\, United States
ATTACH;FMTTYPE=image/jpeg:https://ncamic.org/wp-content/uploads/2022/08/grandover-photo.jpg
ORGANIZER;CN="NCAMIC":MAILTO:greg.poorvin@mutualboilerre.com
END:VEVENT
BEGIN:VEVENT
DTSTART;VALUE=DATE:20221102
DTEND;VALUE=DATE:20221105
DTSTAMP:20260422T121524
CREATED:20220801T223032Z
LAST-MODIFIED:20220817T220430Z
UID:572-1667347200-1667606399@ncamic.org
SUMMARY:Sponsorship Opportunities
DESCRIPTION:
URL:https://ncamic.org/event/sponsorship-opportunities/
LOCATION:Grandover Resort & Spa\, 1000 Club Road\, Greensboro\, NC\, 27407\, United States
ATTACH;FMTTYPE=image/jpeg:https://ncamic.org/wp-content/uploads/2022/08/grandover-photo.jpg
ORGANIZER;CN="NCAMIC":MAILTO:greg.poorvin@mutualboilerre.com
END:VEVENT
END:VCALENDAR